{
 "currentVersion": 11.5,
 "serviceDescription": "MapletonElev2_WEL",
 "serviceItemId": "83451f58c13741a5bb9133bf62808bf0",
 "name": "MapletonElev2_WEL",
 "description": "",
 "extent": {
  "xmin": 1622661.0693877805,
  "ymin": 7214972.742228089,
  "xmax": 1629261.0693877805,
  "ymax": 7221572.742228094,
  "spatialReference": {
   "wkid": 102743,
   "latestWkid": 3566
  }
 },
 "initialExtent": {
  "xmin": 1622661.0693877805,
  "ymin": 7214972.742228089,
  "xmax": 1629261.0693877805,
  "ymax": 7221572.742228094,
  "spatialReference": {
   "wkid": 102743,
   "latestWkid": 3566
  }
 },
 "fullExtent": {
  "xmin": 1622661.0693877805,
  "ymin": 7214972.742228089,
  "xmax": 1629261.0693877805,
  "ymax": 7221572.742228094,
  "spatialReference": {
   "wkid": 102743,
   "latestWkid": 3566
  }
 },
 "sortableFields": "",
 "bandCount": 1,
 "pixelType": "F32",
 "minValues": [
  4790.8466796875
 ],
 "maxValues": [
  6440.81396484375
 ],
 "meanValues": [
  5163.517308541149
 ],
 "stdvValues": [
  370.33600943838013
 ],
 "serviceProperties": "Center<\/MosaicMethod>First<\/MosaicOperator>true<\/SortAscending><\/LockImageID><\/TileOrderField>0<\/TileOrderBase>0.000000<\/AvgImageSpacingX>0.000000<\/AvgImageSpacingY>0.0<\/ViewPointX>0.0<\/ViewPointY>0.0<\/ViewPointDefShiftX>0.0<\/ViewPointDefShiftY>None<\/CompressionMethod>75<\/CompressionQuality>0.100000<\/CompressionTolerance>Bilinear<\/SamplingMethod><\/ImageServiceProperties><\/ImageServer>",
 "allowedFields": "",
 "hasMultidimensions": false,
 "pixelSizeX": 3,
 "pixelSizeY": 3.0000000000021165,
 "meanPixelSize": 0.9144018288039802,
 "datasetFormat": "FGDBR",
 "uncompressedSize": 19360000,
 "blockWidth": 128,
 "blockHeight": 128,
 "compressionType": "LZ77",
 "bandNames": [
  "Band_1"
 ],
 "allowCopy": true,
 "allowAnalysis": true,
 "itemAccess": false,
 "inspectionCapabilities": "",
 "minPixelSize": 3.619103454891137,
 "maxPixelSize": 948726.2560789823,
 "copyrightText": "",
 "serviceDataType": "esriImageServiceDataTypeGeneric",
 "serviceSourceType": "esriImageServiceSourceTypeDataset",
 "objectIdField": "",
 "fields": [],
 "capabilities": "Image,Metadata,Mensuration",
 "defaultMosaicMethod": "Center",
 "allowedMosaicMethods": "",
 "sortField": "",
 "sortValue": null,
 "sortAscending": true,
 "mosaicOperator": "First",
 "defaultCompressionQuality": 75,
 "defaultResamplingMethod": "Bilinear",
 "maxImageHeight": 4100,
 "maxImageWidth": 15000,
 "singleFusedMapCache": true,
 "tileInfo": {
  "rows": 256,
  "cols": 256,
  "dpi": 96,
  "format": "LERC",
  "compressionQuality": 0,
  "lercError": 0.05,
  "origin": {
   "x": -1.1979654411144307E8,
   "y": 1.1889610745162947E8
  },
  "spatialReference": {
   "wkid": 102743,
   "latestWkid": 3566
  },
  "lods": [
   {
    "level": 0,
    "resolution": 948726.2560789823,
    "scale": 1.0929348328726535E9
   },
   {
    "level": 1,
    "resolution": 474363.12803949113,
    "scale": 5.464674164363267E8
   },
   {
    "level": 2,
    "resolution": 237181.56401974557,
    "scale": 2.732337082181634E8
   },
   {
    "level": 3,
    "resolution": 118590.78200987278,
    "scale": 1.366168541090817E8
   },
   {
    "level": 4,
    "resolution": 59295.39100493639,
    "scale": 6.830842705454084E7
   },
   {
    "level": 5,
    "resolution": 29647.695502468196,
    "scale": 3.415421352727042E7
   },
   {
    "level": 6,
    "resolution": 14823.847751234098,
    "scale": 1.707710676363521E7
   },
   {
    "level": 7,
    "resolution": 7411.923875617049,
    "scale": 8538553.381817605
   },
   {
    "level": 8,
    "resolution": 3705.9619378085245,
    "scale": 4269276.690908803
   },
   {
    "level": 9,
    "resolution": 1852.9809689042622,
    "scale": 2134638.3454544013
   },
   {
    "level": 10,
    "resolution": 926.4904844521311,
    "scale": 1067319.1727272007
   },
   {
    "level": 11,
    "resolution": 463.24524222606556,
    "scale": 533659.5863636003
   },
   {
    "level": 12,
    "resolution": 231.62262111303278,
    "scale": 266829.79318180017
   },
   {
    "level": 13,
    "resolution": 115.81131055651639,
    "scale": 133414.89659090008
   },
   {
    "level": 14,
    "resolution": 57.905655278258195,
    "scale": 66707.44829545004
   },
   {
    "level": 15,
    "resolution": 28.952827639129097,
    "scale": 33353.72414772502
   },
   {
    "level": 16,
    "resolution": 14.476413819564549,
    "scale": 16676.86207386251
   },
   {
    "level": 17,
    "resolution": 7.238206909782274,
    "scale": 8338.431036931255
   },
   {
    "level": 18,
    "resolution": 3.619103454891137,
    "scale": 4169.215518465628
   }
  ]
 },
 "storageInfo": {
  "storageFormat": "esriMapCacheStorageModeCompactV2",
  "packetSize": 128
 },
 "cacheType": "Elevation",
 "allowRasterFunction": true,
 "rasterFunctionInfos": [
  {
   "name": "None",
   "description": "",
   "help": ""
  }
 ],
 "rasterTypeInfos": [
  {
   "name": "Raster Dataset",
   "description": "Supports all ArcGIS Raster Datasets",
   "help": ""
  }
 ],
 "mensurationCapabilities": "Basic",
 "hasHistograms": true,
 "hasColormap": false,
 "hasRasterAttributeTable": false,
 "minScale": 1.0929348328726535E9,
 "maxScale": 4169.215518465628,
 "minLOD": 0,
 "maxLOD": 18,
 "exportTilesAllowed": false,
 "supportsStatistics": false,
 "supportsAdvancedQueries": false,
 "editFieldsInfo": null,
 "ownershipBasedAccessControlForRasters": null,
 "allowComputeTiePoints": false,
 "useStandardizedQueries": false,
 "advancedQueryCapabilities": {
  "useStandardizedQueries": false,
  "supportsStatistics": false,
  "supportsOrderBy": false,
  "supportsDistinct": false,
  "supportsPagination": false
 },
 "spatialReference": {
  "wkid": 102743,
  "latestWkid": 3566
 }
}
