View In:
ArcGIS JavaScript
ArcGIS Online Map Viewer
ArcGIS Earth
Service Description: Crestwood
Name: Crestwood
Description:
Single Fused Map Cache: false
Extent:
XMin: 527242.3562452
YMin: 543241.4084406
XMax: 527847.3562452
YMax: 545942.4084406
Spatial Reference: 0
(0)
LatestVCSWkid(0)
Initial Extent:
XMin: 527242.3562452
YMin: 543241.4084406
XMax: 527847.3562452
YMax: 545942.4084406
Spatial Reference: 0
(0)
LatestVCSWkid(0)
Full Extent:
XMin: 527242.3562452
YMin: 543241.4084406
XMax: 527847.3562452
YMax: 545942.4084406
Spatial Reference: 0
(0)
LatestVCSWkid(0)
Pixel Size X: 0.5
Pixel Size Y: 0.5
Band Count: 1
Pixel Type: F32
RasterFunction Infos: {"rasterFunctionInfos": [{
"name": "None",
"description": "",
"help": ""
}]}
Mensuration Capabilities: Basic
Inspection Capabilities:
Has Histograms: true
Has Colormap: false
Has Multi Dimensions : false
Rendering Rule:
Min Scale: 0
Max Scale: 0
Copyright Text:
Service Data Type: esriImageServiceDataTypeGeneric
Min Values: -32.696128845214844
Max Values: 20.69223976135254
Mean Values: -5.926839501079731
Standard Deviation Values: 8.947154208191566
Object ID Field:
Fields:
None
Default Mosaic Method: Center
Allowed Mosaic Methods:
SortField:
SortValue: null
Mosaic Operator: First
Default Compression Quality: 75
Default Resampling Method: Bilinear
Max Record Count: null
Max Image Height: 4100
Max Image Width: 15000
Max Download Image Count: null
Max Mosaic Image Count: null
Allow Raster Function: true
Allow Copy: true
Allow Analysis: true
Allow Compute TiePoints: false
Supports Statistics: false
Supports Advanced Queries: false
Use StandardizedQueries: false
Raster Type Infos:
Name: Raster Dataset
Description: Supports all ArcGIS Raster Datasets
Help:
Has Raster Attribute Table: false
Edit Fields Info: null
Ownership Based AccessControl For Rasters: null
Child Resources:
Info
Histograms
Statistics
Key Properties
Legend
Raster Function Infos
Supported Operations:
Export Image
Identify
Measure
Compute Histograms
Compute Statistics Histograms
Get Samples
Compute Class Statistics
Query Boundary
Compute Pixel Location
Compute Angles
Validate
Project