View In:
ArcGIS JavaScript
ArcGIS Online Map Viewer
ArcGIS Earth
Service Description: NM_3064_2103_Drone_Imagery
Name: NM_3064_2103_Drone_Imagery
Description:
Single Fused Map Cache: false
Extent:
XMin: 1525917.3557285066
YMin: 1496882.0429640228
XMax: 1536676.7773792066
YMax: 1506962.3380328747
Spatial Reference: 0
(0)
LatestVCSWkid(0)
Initial Extent:
XMin: 1525917.3557285066
YMin: 1496882.0429640228
XMax: 1536676.7773792066
YMax: 1506962.3380328747
Spatial Reference: 0
(0)
LatestVCSWkid(0)
Full Extent:
XMin: 1525917.3557285066
YMin: 1496882.0429640228
XMax: 1536676.7773792066
YMax: 1506962.3380328747
Spatial Reference: 0
(0)
LatestVCSWkid(0)
Pixel Size X: 0.1642659794000006
Pixel Size Y: 0.16426782479999846
Band Count: 3
Pixel Type: U8
RasterFunction Infos: {"rasterFunctionInfos": [{
"name": "None",
"description": "",
"help": ""
}]}
Mensuration Capabilities:
Inspection Capabilities:
Has Histograms: true
Has Colormap: false
Has Multi Dimensions : false
Rendering Rule:
Min Scale: 0
Max Scale: 0
Resampling: false
Copyright Text:
Service Data Type: esriImageServiceDataTypeRGB
Min Values: 0, 0, 0
Max Values: 255, 255, 255
Mean Values: 40.562247458562, 38.30073940668, 37.234816610333
Standard Deviation Values: 62.708139587169, 59.377309465931, 57.711640987336
Object ID Field:
Fields:
None
Default Mosaic Method: Center
Allowed Mosaic Methods:
SortField:
SortValue: null
Mosaic Operator: First
Default Compression Quality: 75
Default Resampling Method: Bilinear
Max Record Count: null
Max Image Height: 4100
Max Image Width: 15000
Max Download Image Count: null
Max Mosaic Image Count: null
Allow Raster Function: true
Allow Copy: true
Allow Analysis: true
Allow Compute TiePoints: false
Supports Statistics: false
Supports Advanced Queries: false
Use StandardizedQueries: false
Raster Type Infos:
Name: Raster Dataset
Description: Supports all ArcGIS Raster Datasets
Help:
Has Raster Attribute Table: false
Edit Fields Info: null
Ownership Based AccessControl For Rasters: null
Child Resources:
Info
Histograms
Statistics
Key Properties
Legend
Raster Function Infos
Supported Operations:
Export Image
Identify
Add Rasters
Update Raster
Delete Rasters
Measure
Compute Histograms
Compute Statistics Histograms
Get Samples
Compute Class Statistics
Query Boundary
Compute Pixel Location
Compute Angles
Validate
Project