View In:
ArcGIS JavaScript
ArcGIS Online Map Viewer
ArcGIS Earth
Service Description: OKCENI20_Combined_Delivery_sid
Name: OKCENI20_Combined_Delivery_sid
Description:
Single Fused Map Cache: false
Extent:
XMin: 1973281.00824669
YMin: 479912.39417470933
XMax: 2038599.40824669
YMax: 535751.7541747093
Spatial Reference: 102724
(2267)
LatestVCSWkid(0)
Initial Extent:
XMin: 1973281.00824669
YMin: 479912.39417470933
XMax: 2038599.40824669
YMax: 535751.7541747093
Spatial Reference: 102724
(2267)
LatestVCSWkid(0)
Full Extent:
XMin: 1973281.00824669
YMin: 479912.39417470933
XMax: 2038599.40824669
YMax: 535751.7541747093
Spatial Reference: 102724
(2267)
LatestVCSWkid(0)
Pixel Size X: 0.31999999999999956
Pixel Size Y: 0.3199999999999999
Band Count: 4
Pixel Type: U8
RasterFunction Infos: {"rasterFunctionInfos": [{
"name": "None",
"description": "",
"help": ""
}]}
Mensuration Capabilities: Basic
Inspection Capabilities:
Has Histograms: true
Has Colormap: false
Has Multi Dimensions : false
Rendering Rule:
Min Scale: 0
Max Scale: 0
Copyright Text:
Service Data Type: esriImageServiceDataTypeGeneric
Min Values: 23, 17, 0, 255
Max Values: 255, 255, 255, 255
Mean Values: 167.44825581395, 150.91872093023, 128.74988372093, 255
Standard Deviation Values: 54.606696256298, 59.807454798936, 70.115214982766, 0
Object ID Field:
Fields:
None
Default Mosaic Method: Center
Allowed Mosaic Methods:
SortField:
SortValue: null
Mosaic Operator: First
Default Compression Quality: 75
Default Resampling Method: Bilinear
Max Record Count: null
Max Image Height: 4100
Max Image Width: 15000
Max Download Image Count: null
Max Mosaic Image Count: null
Allow Raster Function: true
Allow Copy: true
Allow Analysis: true
Allow Compute TiePoints: false
Supports Statistics: false
Supports Advanced Queries: false
Use StandardizedQueries: false
Raster Type Infos:
Name: Raster Dataset
Description: Supports all ArcGIS Raster Datasets
Help:
Has Raster Attribute Table: false
Edit Fields Info: null
Ownership Based AccessControl For Rasters: null
Child Resources:
Info
Histograms
Statistics
Key Properties
Legend
Raster Function Infos
Supported Operations:
Export Image
Identify
Measure
Compute Histograms
Compute Statistics Histograms
Get Samples
Compute Class Statistics
Query Boundary
Compute Pixel Location
Compute Angles
Validate
Project