View In:
ArcGIS JavaScript
ArcGIS Online Map Viewer
ArcGIS Earth
Service Description: MapletonElev2_WEL
Name: MapletonElev2_WEL
Description:
Single Fused Map Cache: true
Tile Info:
- Height: 256
- Width: 256
- DPI: 96
-
Levels of Detail: 19
-
Level ID: 0
[ Start Tile, End Tile ]
- Resolution: 948726.2560789823
- Scale: 1.0929348328726535E9
-
Level ID: 1
[ Start Tile, End Tile ]
- Resolution: 474363.12803949113
- Scale: 5.464674164363267E8
-
Level ID: 2
[ Start Tile, End Tile ]
- Resolution: 237181.56401974557
- Scale: 2.732337082181634E8
-
Level ID: 3
[ Start Tile, End Tile ]
- Resolution: 118590.78200987278
- Scale: 1.366168541090817E8
-
Level ID: 4
[ Start Tile, End Tile ]
- Resolution: 59295.39100493639
- Scale: 6.830842705454084E7
-
Level ID: 5
[ Start Tile, End Tile ]
- Resolution: 29647.695502468196
- Scale: 3.415421352727042E7
-
Level ID: 6
[ Start Tile, End Tile ]
- Resolution: 14823.847751234098
- Scale: 1.707710676363521E7
-
Level ID: 7
[ Start Tile, End Tile ]
- Resolution: 7411.923875617049
- Scale: 8538553.381817605
-
Level ID: 8
[ Start Tile, End Tile ]
- Resolution: 3705.9619378085245
- Scale: 4269276.690908803
-
Level ID: 9
[ Start Tile, End Tile ]
- Resolution: 1852.9809689042622
- Scale: 2134638.3454544013
-
Level ID: 10
[ Start Tile, End Tile ]
- Resolution: 926.4904844521311
- Scale: 1067319.1727272007
-
Level ID: 11
[ Start Tile, End Tile ]
- Resolution: 463.24524222606556
- Scale: 533659.5863636003
-
Level ID: 12
[ Start Tile, End Tile ]
- Resolution: 231.62262111303278
- Scale: 266829.79318180017
-
Level ID: 13
[ Start Tile, End Tile ]
- Resolution: 115.81131055651639
- Scale: 133414.89659090008
-
Level ID: 14
[ Start Tile, End Tile ]
- Resolution: 57.905655278258195
- Scale: 66707.44829545004
-
Level ID: 15
[ Start Tile, End Tile ]
- Resolution: 28.952827639129097
- Scale: 33353.72414772502
-
Level ID: 16
[ Start Tile, End Tile ]
- Resolution: 14.476413819564549
- Scale: 16676.86207386251
-
Level ID: 17
[ Start Tile, End Tile ]
- Resolution: 7.238206909782274
- Scale: 8338.431036931255
-
Level ID: 18
[ Start Tile, End Tile ]
- Resolution: 3.619103454891137
- Scale: 4169.215518465628
- Format: LERC
- Compression Quality: 0.0
- LERC Error: 0.05
- Origin: X: -1.1979654411144307E8
Y: 1.1889610745162947E8
- Spatial Reference: 102743
(3566)
LatestVCSWkid(0)
Storage Info:
- Storage Format: esriMapCacheStorageModeCompactV2
- Packet Size: 128
Extent:
XMin: 1622661.0693877805
YMin: 7214972.742228089
XMax: 1629261.0693877805
YMax: 7221572.742228094
Spatial Reference: 102743
(3566)
LatestVCSWkid(0)
Initial Extent:
XMin: 1622661.0693877805
YMin: 7214972.742228089
XMax: 1629261.0693877805
YMax: 7221572.742228094
Spatial Reference: 102743
(3566)
LatestVCSWkid(0)
Full Extent:
XMin: 1622661.0693877805
YMin: 7214972.742228089
XMax: 1629261.0693877805
YMax: 7221572.742228094
Spatial Reference: 102743
(3566)
LatestVCSWkid(0)
Pixel Size X: 3.0
Pixel Size Y: 3.0000000000021165
Band Count: 1
Pixel Type: F32
RasterFunction Infos: {"rasterFunctionInfos": [{
"name": "None",
"description": "",
"help": ""
}]}
Mensuration Capabilities: Basic
Inspection Capabilities:
Has Histograms: true
Has Colormap: false
Has Multi Dimensions : false
Rendering Rule:
Min Scale: 1.0929348328726535E9
Max Scale: 4169.215518465628
Min LOD: 0
Max LOD: 18
Copyright Text:
Service Data Type: esriImageServiceDataTypeGeneric
Min Values: 4790.8466796875
Max Values: 6440.81396484375
Mean Values: 5163.517308541149
Standard Deviation Values: 370.33600943838013
Object ID Field:
Fields:
None
Default Mosaic Method: Center
Allowed Mosaic Methods:
SortField:
SortValue: null
Mosaic Operator: First
Default Compression Quality: 75
Default Resampling Method: Bilinear
Max Record Count: null
Max Image Height: 4100
Max Image Width: 15000
Max Download Image Count: null
Max Mosaic Image Count: null
Allow Raster Function: true
Allow Copy: true
Allow Analysis: true
Allow Compute TiePoints: false
Supports Statistics: false
Supports Advanced Queries: false
Use StandardizedQueries: false
Raster Type Infos:
Name: Raster Dataset
Description: Supports all ArcGIS Raster Datasets
Help:
Has Raster Attribute Table: false
Edit Fields Info: null
Ownership Based AccessControl For Rasters: null
Child Resources:
Info
Histograms
Statistics
Key Properties
Legend
Raster Function Infos
Supported Operations:
Export Image
Identify
Measure
Compute Histograms
Compute Statistics Histograms
Get Samples
Compute Class Statistics
Query Boundary
Compute Pixel Location
Compute Angles
Validate
Project